BEGIN:VCALENDAR
VERSION:2.0
PRODID:icalendar-ruby
CALSCALE:GREGORIAN
METHOD:PUBLISH
BEGIN:VEVENT
DTSTAMP:20260423T011401Z
UID:20adc928-0fc8-4ad1-ad9a-79ddbb97ca92
DTSTART;VALUE=DATE:20150426
DTEND;VALUE=DATE:20150426
DESCRIPTION:Akron BMX
LOCATION:800 Derby Downs Drive  Akron OH 44306 USA
SUMMARY:Local Race Single
URL:/site/bmx_races/260863
END:VEVENT
END:VCALENDAR
