BEGIN:VCALENDAR
VERSION:2.0
PRODID:icalendar-ruby
CALSCALE:GREGORIAN
METHOD:PUBLISH
BEGIN:VEVENT
DTSTAMP:20260423T072554Z
UID:96270086-3cb7-46e1-a46e-caa2c710229b
DTSTART;VALUE=DATE:20150510
DTEND;VALUE=DATE:20150510
DESCRIPTION:Akron BMX
LOCATION:800 Derby Downs Drive  Akron OH 44306 USA
SUMMARY:Local Race Single
URL:/site/bmx_races/260867
END:VEVENT
END:VCALENDAR
