BEGIN:VCALENDAR
VERSION:2.0
PRODID:icalendar-ruby
CALSCALE:GREGORIAN
METHOD:PUBLISH
BEGIN:VEVENT
DTSTAMP:20260423T011403Z
UID:fbf5c209-be58-4bd6-be86-ccb68687ffc7
DTSTART;VALUE=DATE:20150723
DTEND;VALUE=DATE:20150723
DESCRIPTION:Columbia Basin BMX
LOCATION:2002 Snyder St  Richland WA 99354 USA
SUMMARY:Local Race Single
URL:/site/bmx_races/261202
END:VEVENT
END:VCALENDAR
