BEGIN:VCALENDAR
VERSION:2.0
PRODID:icalendar-ruby
CALSCALE:GREGORIAN
METHOD:PUBLISH
BEGIN:VEVENT
DTSTAMP:20260426T022318Z
UID:fc3f744a-5f41-474d-add2-94e73957516b
DTSTART;VALUE=DATE:20150912
DTEND;VALUE=DATE:20150912
DESCRIPTION:Spokane BMX
LOCATION:5701 N Assembly St  Spokane WA 99205 USA
SUMMARY:Local Race Single
URL:/site/bmx_races/261487
END:VEVENT
END:VCALENDAR
