BEGIN:VCALENDAR
VERSION:2.0
PRODID:icalendar-ruby
CALSCALE:GREGORIAN
METHOD:PUBLISH
BEGIN:VEVENT
DTSTAMP:20260426T022330Z
UID:4be5f766-cf4d-4c2a-ab89-28e895c6c946
DTSTART;VALUE=DATE:20150926
DTEND;VALUE=DATE:20150926
DESCRIPTION:Spokane BMX
LOCATION:5701 N Assembly St  Spokane WA 99205 USA
SUMMARY:Local Race Single
URL:/site/bmx_races/261491
END:VEVENT
END:VCALENDAR
