BEGIN:VCALENDAR
VERSION:2.0
PRODID:icalendar-ruby
CALSCALE:GREGORIAN
METHOD:PUBLISH
BEGIN:VEVENT
DTSTAMP:20260425T161841Z
UID:23540fd3-f1ff-4b61-a06f-988f8f7b279b
DTSTART;VALUE=DATE:20151003
DTEND;VALUE=DATE:20151003
DESCRIPTION:Bigfoot BMX
LOCATION:600 128th St Se  Everett WA 98201 USA
SUMMARY:Local Race Single
URL:/site/bmx_races/261583
END:VEVENT
END:VCALENDAR
