BEGIN:VCALENDAR
VERSION:2.0
PRODID:icalendar-ruby
CALSCALE:GREGORIAN
METHOD:PUBLISH
BEGIN:VEVENT
DTSTAMP:20260425T134711Z
UID:93f7d629-0665-4849-8f51-e584c1647c07
DTSTART;VALUE=DATE:20150627
DTEND;VALUE=DATE:20150627
DESCRIPTION:River Valley BMX
LOCATION:7800 Riverside Rd E  Sumner WA 98360 USA
SUMMARY:Local Race Single
URL:/site/bmx_races/261635
END:VEVENT
END:VCALENDAR
