BEGIN:VCALENDAR
VERSION:2.0
PRODID:icalendar-ruby
CALSCALE:GREGORIAN
METHOD:PUBLISH
BEGIN:VEVENT
DTSTAMP:20260423T152911Z
UID:260c0c05-7bdb-4e40-af7d-a588c2ee85e6
DTSTART;VALUE=DATE:20150109
DTEND;VALUE=DATE:20150109
DESCRIPTION:Redwood Empire BMX
LOCATION:201 Vance Ave  Samoa CA 95564 USA
SUMMARY:Practice
URL:/site/bmx_races/261935
END:VEVENT
END:VCALENDAR
