BEGIN:VCALENDAR
VERSION:2.0
PRODID:icalendar-ruby
CALSCALE:GREGORIAN
METHOD:PUBLISH
BEGIN:VEVENT
DTSTAMP:20260423T121507Z
UID:07358da4-50db-4eca-82be-cb64a98a374b
DTSTART;VALUE=DATE:20150320
DTEND;VALUE=DATE:20150320
DESCRIPTION:Redwood Empire BMX
LOCATION:201 Vance Ave  Samoa CA 95564 USA
SUMMARY:Practice
URL:/site/bmx_races/261965
END:VEVENT
END:VCALENDAR
