BEGIN:VCALENDAR
VERSION:2.0
PRODID:icalendar-ruby
CALSCALE:GREGORIAN
METHOD:PUBLISH
BEGIN:VEVENT
DTSTAMP:20260423T085624Z
UID:3bc7bcc2-f116-4596-86b3-ca74ae97d578
DTSTART;VALUE=DATE:20150515
DTEND;VALUE=DATE:20150515
DESCRIPTION:Redwood Empire BMX
LOCATION:201 Vance Ave  Samoa CA 95564 USA
SUMMARY:Practice
URL:/site/bmx_races/261989
END:VEVENT
END:VCALENDAR
