BEGIN:VCALENDAR
VERSION:2.0
PRODID:icalendar-ruby
CALSCALE:GREGORIAN
METHOD:PUBLISH
BEGIN:VEVENT
DTSTAMP:20260423T085522Z
UID:16cf56f5-eb3d-4eb4-9736-dbbd965e6097
DTSTART;VALUE=DATE:20150517
DTEND;VALUE=DATE:20150517
DESCRIPTION:Redwood Empire BMX
LOCATION:201 Vance Ave  Samoa CA 95564 USA
SUMMARY:Local Race Single
URL:/site/bmx_races/261990
END:VEVENT
END:VCALENDAR
