BEGIN:VCALENDAR
VERSION:2.0
PRODID:icalendar-ruby
CALSCALE:GREGORIAN
METHOD:PUBLISH
BEGIN:VEVENT
DTSTAMP:20260423T085508Z
UID:94714f76-f9fe-4ffb-86de-2ba2d6f1a3f3
DTSTART;VALUE=DATE:20150527
DTEND;VALUE=DATE:20150527
DESCRIPTION:Redwood Empire BMX
LOCATION:201 Vance Ave  Samoa CA 95564 USA
SUMMARY:Practice
URL:/site/bmx_races/261994
END:VEVENT
END:VCALENDAR
