BEGIN:VCALENDAR
VERSION:2.0
PRODID:icalendar-ruby
CALSCALE:GREGORIAN
METHOD:PUBLISH
BEGIN:VEVENT
DTSTAMP:20260423T034353Z
UID:11528935-b546-416b-b771-8f40987d31e6
DTSTART;VALUE=DATE:20150701
DTEND;VALUE=DATE:20150701
DESCRIPTION:Redwood Empire BMX
LOCATION:201 Vance Ave  Samoa CA 95564 USA
SUMMARY:Practice
URL:/site/bmx_races/262009
END:VEVENT
END:VCALENDAR
