BEGIN:VCALENDAR
VERSION:2.0
PRODID:icalendar-ruby
CALSCALE:GREGORIAN
METHOD:PUBLISH
BEGIN:VEVENT
DTSTAMP:20260423T053136Z
UID:7356c580-6307-415a-8972-6e3813e79da1
DTSTART;VALUE=DATE:20150705
DTEND;VALUE=DATE:20150705
DESCRIPTION:Redwood Empire BMX
LOCATION:201 Vance Ave  Samoa CA 95564 USA
SUMMARY:Local Race Single
URL:/site/bmx_races/262011
END:VEVENT
END:VCALENDAR
