BEGIN:VCALENDAR
VERSION:2.0
PRODID:icalendar-ruby
CALSCALE:GREGORIAN
METHOD:PUBLISH
BEGIN:VEVENT
DTSTAMP:20260423T020818Z
UID:6d25f58b-1cc3-41fc-b608-afac1a58d7a1
DTSTART;VALUE=DATE:20150923
DTEND;VALUE=DATE:20150923
DESCRIPTION:Redwood Empire BMX
LOCATION:201 Vance Ave  Samoa CA 95564 USA
SUMMARY:Practice
URL:/site/bmx_races/262045
END:VEVENT
END:VCALENDAR
