BEGIN:VCALENDAR
VERSION:2.0
PRODID:icalendar-ruby
CALSCALE:GREGORIAN
METHOD:PUBLISH
BEGIN:VEVENT
DTSTAMP:20260422T210022Z
UID:f9237b29-0ee8-4f20-ade7-de6c960586af
DTSTART;VALUE=DATE:20151209
DTEND;VALUE=DATE:20151209
DESCRIPTION:Redwood Empire BMX
LOCATION:201 Vance Ave  Samoa CA 95564 USA
SUMMARY:Practice
URL:/site/bmx_races/262078
END:VEVENT
END:VCALENDAR
