BEGIN:VCALENDAR
VERSION:2.0
PRODID:icalendar-ruby
CALSCALE:GREGORIAN
METHOD:PUBLISH
BEGIN:VEVENT
DTSTAMP:20260426T022333Z
UID:ac86d8d4-e170-4676-bf49-790b18a5132f
DTSTART;VALUE=DATE:20140902
DTEND;VALUE=DATE:20140902
DESCRIPTION:Air Time BMX
LOCATION:5051 S Frankwood Ave  Reedley CA 93654 USA
SUMMARY:Standard Single
URL:/site/bmx_races/262256
END:VEVENT
END:VCALENDAR
