BEGIN:VCALENDAR
VERSION:2.0
PRODID:icalendar-ruby
CALSCALE:GREGORIAN
METHOD:PUBLISH
BEGIN:VEVENT
DTSTAMP:20260421T220212Z
UID:38cdab72-c95b-49bd-9b50-1beb38ca5897
DTSTART;VALUE=DATE:20140930
DTEND;VALUE=DATE:20140930
DESCRIPTION:Apple Valley BMX Moto Park
LOCATION:24320 Highway 18  Apple Valley CA 92307 USA
SUMMARY:Standard Single
URL:/site/bmx_races/262286
END:VEVENT
END:VCALENDAR
