BEGIN:VCALENDAR
VERSION:2.0
PRODID:icalendar-ruby
CALSCALE:GREGORIAN
METHOD:PUBLISH
BEGIN:VEVENT
DTSTAMP:20260419T172958Z
UID:4dfd91db-4a1f-461d-bea8-91391baefec3
DTSTART;VALUE=DATE:20150826
DTEND;VALUE=DATE:20150826
DESCRIPTION:Mankato Area BMX
LOCATION:100 Industrial Rd  Mankato MN 56001 USA
SUMMARY:Local Race Single
URL:/site/bmx_races/263106
END:VEVENT
END:VCALENDAR
