BEGIN:VCALENDAR
VERSION:2.0
PRODID:icalendar-ruby
CALSCALE:GREGORIAN
METHOD:PUBLISH
BEGIN:VEVENT
DTSTAMP:20260424T032352Z
UID:25ca1124-8fa9-40d8-90c6-48a7ed3710ed
DTSTART;VALUE=DATE:20150502
DTEND;VALUE=DATE:20150502
DESCRIPTION:Cedar BMX
LOCATION:Red Barn Village Rd  Clarks Summit PA 18644 USA
SUMMARY:Local Race Single
URL:/site/bmx_races/263393
END:VEVENT
END:VCALENDAR
