BEGIN:VCALENDAR
VERSION:2.0
PRODID:icalendar-ruby
CALSCALE:GREGORIAN
METHOD:PUBLISH
BEGIN:VEVENT
DTSTAMP:20260425T032859Z
UID:4cc069ee-8ac3-4dc5-a616-d3818317b29f
DTSTART;VALUE=DATE:20141118
DTEND;VALUE=DATE:20141118
DESCRIPTION:Peninsula Indoor BMX
LOCATION:5867 Dogwood Road Se  Port Orchard WA 98367 USA
SUMMARY:Practice
URL:/site/bmx_races/263589
END:VEVENT
END:VCALENDAR
