BEGIN:VCALENDAR
VERSION:2.0
PRODID:icalendar-ruby
CALSCALE:GREGORIAN
METHOD:PUBLISH
BEGIN:VEVENT
DTSTAMP:20260426T035901Z
UID:68004412-ec1b-4418-b281-4c3ee0122da9
DTSTART;VALUE=DATE:20150723
DTEND;VALUE=DATE:20150723
DESCRIPTION:Penticton BMX
LOCATION:630 Munson Mountain Road  Penticton BC V2A 8S5 CAN
SUMMARY:Practice
URL:/site/bmx_races/264458
END:VEVENT
END:VCALENDAR
