BEGIN:VCALENDAR
VERSION:2.0
PRODID:icalendar-ruby
CALSCALE:GREGORIAN
METHOD:PUBLISH
BEGIN:VEVENT
DTSTAMP:20260426T035845Z
UID:d24cfadb-dc16-437b-99e4-1dd78b1b9a02
DTSTART;VALUE=DATE:20150727
DTEND;VALUE=DATE:20150727
DESCRIPTION:Penticton BMX
LOCATION:630 Munson Mountain Road  Penticton BC V2A 8S5 CAN
SUMMARY:Practice
URL:/site/bmx_races/264459
END:VEVENT
END:VCALENDAR
