BEGIN:VCALENDAR
VERSION:2.0
PRODID:icalendar-ruby
CALSCALE:GREGORIAN
METHOD:PUBLISH
BEGIN:VEVENT
DTSTAMP:20260426T022332Z
UID:380c6095-eee7-41c5-97f6-2b6e97402a31
DTSTART;VALUE=DATE:20150806
DTEND;VALUE=DATE:20150806
DESCRIPTION:Penticton BMX
LOCATION:630 Munson Mountain Road  Penticton BC V2A 8S5 CAN
SUMMARY:Practice
URL:/site/bmx_races/264462
END:VEVENT
END:VCALENDAR
