BEGIN:VCALENDAR
VERSION:2.0
PRODID:icalendar-ruby
CALSCALE:GREGORIAN
METHOD:PUBLISH
BEGIN:VEVENT
DTSTAMP:20260419T183513Z
UID:ec9d88e0-3406-49ba-bde4-651b006e8723
DTSTART;VALUE=DATE:20150404
DTEND;VALUE=DATE:20150404
DESCRIPTION:Hornet`s Nest BMX
LOCATION:6301 Beatties Ford Rd  Charlotte NC 28216 USA
SUMMARY:Local Race Single
URL:/site/bmx_races/264679
END:VEVENT
END:VCALENDAR
