BEGIN:VCALENDAR
VERSION:2.0
PRODID:icalendar-ruby
CALSCALE:GREGORIAN
METHOD:PUBLISH
BEGIN:VEVENT
DTSTAMP:20260425T172511Z
UID:a85b002e-a232-41fa-a652-c492d930a90d
DTSTART;VALUE=DATE:20150813
DTEND;VALUE=DATE:20150813
DESCRIPTION:Hornet`s Nest BMX
LOCATION:6301 Beatties Ford Rd  Charlotte NC 28216 USA
SUMMARY:Local Race Single
URL:/site/bmx_races/264735
END:VEVENT
END:VCALENDAR
