BEGIN:VCALENDAR
VERSION:2.0
PRODID:icalendar-ruby
CALSCALE:GREGORIAN
METHOD:PUBLISH
BEGIN:VEVENT
DTSTAMP:20260419T161414Z
UID:893aaf1a-f644-4ce1-83e4-d3e09a4f2cae
DTSTART;VALUE=DATE:20150503
DTEND;VALUE=DATE:20150503
DESCRIPTION:Central Jersey BMX
LOCATION:2449 U.S. 9  Howell NJ 7731 USA
SUMMARY:Local Race Single
URL:/site/bmx_races/264847
END:VEVENT
END:VCALENDAR
