BEGIN:VCALENDAR
VERSION:2.0
PRODID:icalendar-ruby
CALSCALE:GREGORIAN
METHOD:PUBLISH
BEGIN:VEVENT
DTSTAMP:20260423T154830Z
UID:da9a0bdd-4977-4739-ab89-5a11d099e3ed
DTSTART;VALUE=DATE:20150818
DTEND;VALUE=DATE:20150818
DESCRIPTION:Shelby Farms BMX
LOCATION:6435 Walnut Grove Rd  Memphis TN 38119 USA
SUMMARY:Local Race Single
URL:/site/bmx_races/265170
END:VEVENT
END:VCALENDAR
