BEGIN:VCALENDAR
VERSION:2.0
PRODID:icalendar-ruby
CALSCALE:GREGORIAN
METHOD:PUBLISH
BEGIN:VEVENT
DTSTAMP:20260419T184344Z
UID:706f602b-ee53-4ce0-92a0-f3a4020fc122
DTSTART;VALUE=DATE:20150725
DTEND;VALUE=DATE:20150725
DESCRIPTION:Central Wisconsin BMX
LOCATION:2220 E Riverview Expy\,  Wisconsin Rapids WI 54494 USA
SUMMARY:Race for Life Double
URL:/site/bmx_races/265219
END:VEVENT
END:VCALENDAR
