BEGIN:VCALENDAR
VERSION:2.0
PRODID:icalendar-ruby
CALSCALE:GREGORIAN
METHOD:PUBLISH
BEGIN:VEVENT
DTSTAMP:20260425T161008Z
UID:a2f5c468-19bc-4db8-b5b9-fd3e05a1a85b
DTSTART;VALUE=DATE:20150809
DTEND;VALUE=DATE:20150809
DESCRIPTION:Greater Victoria BMX
LOCATION:1767 Island Hwy  Victoria BC V9B 1J1 CAN
SUMMARY:Gold Cup Qualifier Triple
URL:/site/bmx_races/265591
END:VEVENT
END:VCALENDAR
