BEGIN:VCALENDAR
VERSION:2.0
PRODID:icalendar-ruby
CALSCALE:GREGORIAN
METHOD:PUBLISH
BEGIN:VEVENT
DTSTAMP:20260423T092423Z
UID:f8e0e461-b41a-409e-9593-b5125839d708
DTSTART;VALUE=DATE:20150403
DTEND;VALUE=DATE:20150403
DESCRIPTION:WALLA WALLA BMX
LOCATION:Fort Walla Walla Park   1898 Dalles Military Rd Walla Walla WA 993
 62 USA
SUMMARY:Local Race Single
URL:/site/bmx_races/266030
END:VEVENT
END:VCALENDAR
