BEGIN:VCALENDAR
VERSION:2.0
PRODID:icalendar-ruby
CALSCALE:GREGORIAN
METHOD:PUBLISH
BEGIN:VEVENT
DTSTAMP:20260425T104644Z
UID:eb9d7b3c-ef40-46f1-bae2-743ebbe1a0f1
DTSTART;VALUE=DATE:20150410
DTEND;VALUE=DATE:20150410
DESCRIPTION:WALLA WALLA BMX
LOCATION:Fort Walla Walla Park   1898 Dalles Military Rd Walla Walla WA 993
 62 USA
SUMMARY:Local Race Single
URL:/site/bmx_races/266031
END:VEVENT
END:VCALENDAR
