BEGIN:VCALENDAR
VERSION:2.0
PRODID:icalendar-ruby
CALSCALE:GREGORIAN
METHOD:PUBLISH
BEGIN:VEVENT
DTSTAMP:20260423T034420Z
UID:ffd6d605-1510-4ac4-836f-3c3aa547a256
DTSTART;VALUE=DATE:20141122
DTEND;VALUE=DATE:20141122
DESCRIPTION:Triple Creek BMX
LOCATION:12705 Balm Boyette Rd  Riverview FL 33579 USA
SUMMARY:Local Race Single
URL:/site/bmx_races/266225
END:VEVENT
END:VCALENDAR
