BEGIN:VCALENDAR
VERSION:2.0
PRODID:icalendar-ruby
CALSCALE:GREGORIAN
METHOD:PUBLISH
BEGIN:VEVENT
DTSTAMP:20260419T150725Z
UID:60dd1506-c408-458c-a56b-cbefd37cbaae
DTSTART;VALUE=DATE:20150719
DTEND;VALUE=DATE:20150719
DESCRIPTION:Sycamore BMX
LOCATION:1692 Sycamore Dr.  Simi Valley CA 93065 USA
SUMMARY:State Race Double
URL:/site/bmx_races/266245
END:VEVENT
END:VCALENDAR
