BEGIN:VCALENDAR
VERSION:2.0
PRODID:icalendar-ruby
CALSCALE:GREGORIAN
METHOD:PUBLISH
BEGIN:VEVENT
DTSTAMP:20260419T142316Z
UID:570f6cbf-f941-4226-9be6-11e010f8b788
DTSTART;VALUE=DATE:20141017
DTEND;VALUE=DATE:20141017
DESCRIPTION:Rock Hill BMX Supercross Track
LOCATION:1307 Riverwalk Parkway  Rock Hill SC 29730 USA
SUMMARY:Standard Single
URL:/site/bmx_races/266423
END:VEVENT
END:VCALENDAR
