BEGIN:VCALENDAR
VERSION:2.0
PRODID:icalendar-ruby
CALSCALE:GREGORIAN
METHOD:PUBLISH
BEGIN:VEVENT
DTSTAMP:20260419T175049Z
UID:4387e97e-dc26-419d-b3cd-ac5ece67ad52
DTSTART;VALUE=DATE:20141206
DTEND;VALUE=DATE:20141206
DESCRIPTION:Ed Fountain Park BMX Raceway
LOCATION:1400 N Decatur Blvd  Las Vegas NV 89108 USA
SUMMARY:Local Race Single
URL:/site/bmx_races/267372
END:VEVENT
END:VCALENDAR
