BEGIN:VCALENDAR
VERSION:2.0
PRODID:icalendar-ruby
CALSCALE:GREGORIAN
METHOD:PUBLISH
BEGIN:VEVENT
DTSTAMP:20260419T170753Z
UID:8f2aa31b-37a1-4679-9406-183d8457f0b5
DTSTART;VALUE=DATE:20150721
DTEND;VALUE=DATE:20150721
DESCRIPTION:CR BMX
LOCATION:1600 Cedar Bend Lane Sw  Ely IA 52227 USA
SUMMARY:Local Race Single
URL:/site/bmx_races/267757
END:VEVENT
END:VCALENDAR
