BEGIN:VCALENDAR
VERSION:2.0
PRODID:icalendar-ruby
CALSCALE:GREGORIAN
METHOD:PUBLISH
BEGIN:VEVENT
DTSTAMP:20260423T085521Z
UID:987e9ebd-fcc5-4689-aa60-ec14411a9a40
DTSTART;VALUE=DATE:20141122
DTEND;VALUE=DATE:20141122
DESCRIPTION:Sandy Ridge BMX
LOCATION:1200 Keys Ferry Rd  McDonough GA 30253 USA
SUMMARY:Standard Single
URL:/site/bmx_races/268065
END:VEVENT
END:VCALENDAR
