BEGIN:VCALENDAR
VERSION:2.0
PRODID:icalendar-ruby
CALSCALE:GREGORIAN
METHOD:PUBLISH
BEGIN:VEVENT
DTSTAMP:20260423T131746Z
UID:55fa0d45-e1fd-4c17-9cb6-7402f120b12d
DTSTART;VALUE=DATE:20150531
DTEND;VALUE=DATE:20150531
DESCRIPTION:Cobb County BMX
LOCATION:3820 Macedonia Rd  Powder Springs GA 30127 USA
SUMMARY:Local Race Single
URL:/site/bmx_races/268714
END:VEVENT
END:VCALENDAR
