BEGIN:VCALENDAR
VERSION:2.0
PRODID:icalendar-ruby
CALSCALE:GREGORIAN
METHOD:PUBLISH
BEGIN:VEVENT
DTSTAMP:20260425T020515Z
UID:c931d1fc-66ec-4825-9dc0-ab535df25a05
DTSTART;VALUE=DATE:20150419
DTEND;VALUE=DATE:20150419
DESCRIPTION:County Line BMX
LOCATION:8560 South Colorado Blvd  Centennial CO 80126 USA
SUMMARY:Local Race Single
URL:/site/bmx_races/269084
END:VEVENT
END:VCALENDAR
