BEGIN:VCALENDAR
VERSION:2.0
PRODID:icalendar-ruby
CALSCALE:GREGORIAN
METHOD:PUBLISH
BEGIN:VEVENT
DTSTAMP:20260426T022319Z
UID:ea75974f-1bf3-4a7a-9853-4c3b2ed3e16c
DTSTART;VALUE=DATE:20150908
DTEND;VALUE=DATE:20150908
DESCRIPTION:Goodyear BMX Raceway
LOCATION:15660 W Roeser Rd  Goodyear AZ 85338 USA
SUMMARY:Local Race Single
URL:/site/bmx_races/270987
END:VEVENT
END:VCALENDAR
