BEGIN:VCALENDAR
VERSION:2.0
PRODID:icalendar-ruby
CALSCALE:GREGORIAN
METHOD:PUBLISH
BEGIN:VEVENT
DTSTAMP:20260424T032349Z
UID:6a819fe5-d33b-4d10-86e3-670f271d2448
DTSTART;VALUE=DATE:20150712
DTEND;VALUE=DATE:20150712
DESCRIPTION:St. Peters BMX
LOCATION:100 Brown Rd  St. Peters MO 63376 USA
SUMMARY:Local Race Single
URL:/site/bmx_races/271485
END:VEVENT
END:VCALENDAR
