BEGIN:VCALENDAR
VERSION:2.0
PRODID:icalendar-ruby
CALSCALE:GREGORIAN
METHOD:PUBLISH
BEGIN:VEVENT
DTSTAMP:20260421T010316Z
UID:81717543-dd3d-47f2-aa15-a983a9867812
DTSTART;VALUE=DATE:20150516
DTEND;VALUE=DATE:20150516
DESCRIPTION:Charlie`s BMX Track\, Inc.
LOCATION:4400 1/2 Dutch Hollow Rd  Ellery Center NY 14767 USA
SUMMARY:Local Race Single
URL:/site/bmx_races/272644
END:VEVENT
END:VCALENDAR
