BEGIN:VCALENDAR
VERSION:2.0
PRODID:icalendar-ruby
CALSCALE:GREGORIAN
METHOD:PUBLISH
BEGIN:VEVENT
DTSTAMP:20260425T203835Z
UID:9cc5f5bf-6894-4173-ba5a-0d12848d4306
DTSTART;VALUE=DATE:20150823
DTEND;VALUE=DATE:20150823
DESCRIPTION:Central Jersey BMX
LOCATION:2449 U.S. 9  Howell NJ 7731 USA
SUMMARY:Local Race Single
URL:/site/bmx_races/272674
END:VEVENT
END:VCALENDAR
