BEGIN:VCALENDAR
VERSION:2.0
PRODID:icalendar-ruby
CALSCALE:GREGORIAN
METHOD:PUBLISH
BEGIN:VEVENT
DTSTAMP:20260422T100614Z
UID:b589bb7e-a061-4b7f-8d7c-a4846d68cc7b
DTSTART;VALUE=DATE:20150215
DTEND;VALUE=DATE:20150215
DESCRIPTION:Cross Creek BMX
LOCATION:8115 Parkglen Dr.  Fountain CO 80817 USA
SUMMARY:Local Race Single
URL:/site/bmx_races/272701
END:VEVENT
END:VCALENDAR
