BEGIN:VCALENDAR
VERSION:2.0
PRODID:icalendar-ruby
CALSCALE:GREGORIAN
METHOD:PUBLISH
BEGIN:VEVENT
DTSTAMP:20260422T084445Z
UID:996c0c01-2823-42d5-85ab-31af398006c4
DTSTART;VALUE=DATE:20150308
DTEND;VALUE=DATE:20150308
DESCRIPTION:Cross Creek BMX
LOCATION:8115 Parkglen Dr.  Fountain CO 80817 USA
SUMMARY:Local Race Single
URL:/site/bmx_races/272713
END:VEVENT
END:VCALENDAR
