BEGIN:VCALENDAR
VERSION:2.0
PRODID:icalendar-ruby
CALSCALE:GREGORIAN
METHOD:PUBLISH
BEGIN:VEVENT
DTSTAMP:20260422T070915Z
UID:7d3a5a39-d2b5-408d-8e8c-16616417c1a0
DTSTART;VALUE=DATE:20150401
DTEND;VALUE=DATE:20150401
DESCRIPTION:Cross Creek BMX
LOCATION:8115 Parkglen Dr.  Fountain CO 80817 USA
SUMMARY:Local Race Single
URL:/site/bmx_races/272727
END:VEVENT
END:VCALENDAR
