BEGIN:VCALENDAR
VERSION:2.0
PRODID:icalendar-ruby
CALSCALE:GREGORIAN
METHOD:PUBLISH
BEGIN:VEVENT
DTSTAMP:20260422T054852Z
UID:8df12f74-c9bd-4e26-aa6f-2cbab9bf73ee
DTSTART;VALUE=DATE:20150520
DTEND;VALUE=DATE:20150520
DESCRIPTION:Cross Creek BMX
LOCATION:8115 Parkglen Dr.  Fountain CO 80817 USA
SUMMARY:Local Race Single
URL:/site/bmx_races/272755
END:VEVENT
END:VCALENDAR
