BEGIN:VCALENDAR
VERSION:2.0
PRODID:icalendar-ruby
CALSCALE:GREGORIAN
METHOD:PUBLISH
BEGIN:VEVENT
DTSTAMP:20260422T054939Z
UID:f38a9ae9-3c4a-4e73-a3b8-b33a43ebafb8
DTSTART;VALUE=DATE:20150523
DTEND;VALUE=DATE:20150523
DESCRIPTION:Cross Creek BMX
LOCATION:8115 Parkglen Dr.  Fountain CO 80817 USA
SUMMARY:Local Race Single
URL:/site/bmx_races/272756
END:VEVENT
END:VCALENDAR
