BEGIN:VCALENDAR
VERSION:2.0
PRODID:icalendar-ruby
CALSCALE:GREGORIAN
METHOD:PUBLISH
BEGIN:VEVENT
DTSTAMP:20260421T222212Z
UID:af13b89e-a2c6-4563-a00b-e9283296a4df
DTSTART;VALUE=DATE:20151004
DTEND;VALUE=DATE:20151004
DESCRIPTION:Cross Creek BMX
LOCATION:8115 Parkglen Dr.  Fountain CO 80817 USA
SUMMARY:Local Race Single
URL:/site/bmx_races/272833
END:VEVENT
END:VCALENDAR
